BEGIN:VCALENDAR
VERSION:2.0
PRODID:https://github.com/derhansen/sf_event_mgt
METHOD:PUBLISH
BEGIN:VEVENT
UID:9-277@www.pamiatky.sk
CLASS: PUBLIC
SUMMARY:Odborný seminár Pamiatky Trnavy a Trnavského kraja
DESCRIPTION:Krajský pamiatkový úrad Trnava a mesto Trnava vás pozývajú na j
 ubilejný 30. ročník odborného seminára Pamiatky Trnavy a Trnavského kraja. 
 Bude sa konať v utorok 2. decembra od 13.00 v priestoroch Trnavskej radnice
  na Hlavnej ulici č. 1. Tešia sa na vás slovenskí a českí pamiatkari a rešt
 aurátori, ktorí budú hovoriť o nálezoch, objavoch, výskumoch a reštaurovaní
  pamiatok Trnavy, Červeníku a Hlohovca, a v kontexte s objavom trnavských h
 linených domov aj o stredovekej hlinenej zástavbe v Brne. Na webe pamiatkov
 ého úradu je pre vás k dispozícii v poradí už 27. ročník zborníka zo seminá
 ra Pamiatky Trnavy a Trnavského kraja 27, ktorý sa uskutočnil 3. decembra 2
 024.
LOCATION:Trnavská radnica
DTSTAMP:20251125T123417Z
DTSTART:20251202T130000Z
DTEND:20251202T180000Z
END:VEVENT
END:VCALENDAR